BEGIN:VCALENDAR
VERSION:2.0
PRODID:-//hacksw/handcal//NONSGML v1.0//EN
BEGIN:VEVENT
SUMMARY:Citadelle de Namur
UID:32105a85-3548-4cb5-86f3-3f46e773352b
DTSTART:20260516T110000Z
DTEND:20260516T140000Z
LOCATION:Localisation   
CATEGORIES:Sportif
STATUS:
DESCRIPTION:<p><a href="https://www.opunch.org/event/3694"
 target="_blank" rel="noreferrer noopener"><span
 style="font-size:16px;">Toutes les infos ici</span></a></p>
URL;VALUE=URI:https://www.oscm08.com/evenements/2026/05/16/citadelle-de-namur-2443923
END:VEVENT
END:VCALENDAR
