BEGIN:VCALENDAR
VERSION:2.0
PRODID:-//hacksw/handcal//NONSGML v1.0//EN
BEGIN:VEVENT
SUMMARY:Chpt France Moyenne distance
UID:d0f00c03-ac37-4268-8a2a-b1ae6d705598
DTSTART:20260422T110000Z
DTEND:20260422T150000Z
LOCATION:Localisation   
CATEGORIES:Sportif
STATUS:
DESCRIPTION:<p><span style="font-size:16px;">Bouchbach le
 Bas</span></p>
 
 <p><a
 href="https://www.ffcorientation.fr/courses/agenda/102748/"
 target="_blank" rel="noreferrer noopener"><span
 style="font-size:16px;">Toutes les infos ici</span></a></p>
URL;VALUE=URI:https://www.oscm08.com/evenements/2026/04/22/chpt-france-moyenne-distance-2443947
END:VEVENT
END:VCALENDAR
