BEGIN:VCALENDAR
VERSION:2.0
PRODID:-//hacksw/handcal//NONSGML v1.0//EN
BEGIN:VEVENT
SUMMARY:CO a Montcy Notre Dame
UID:ac245fec-c810-4231-8ab9-947f3961a019
DTSTART:20260405T073000Z
DTEND:20260405T093000Z
LOCATION:Localisation   
CATEGORIES:Sportif
STATUS:
DESCRIPTION:<p>3 CO proposees en mode entrainement
 decouverte</p>
 
 <p>1 CO Type trail Orientation de 8 a 10 km</p>
 
 <p>2
 CO de 2 ou 4 km </p>
 
 <p>Inscription via le formulaire pour
 l'impression des cartes</p>
URL;VALUE=URI:https://www.oscm08.com/evenements/2026/04/05/co-a-montcy-notre-dame-2425341
END:VEVENT
END:VCALENDAR
